Workbook

Sheet Resumo (19.01.2024)
B1: Tabelas Resumo Credores
B3: Credores | C3: Qtde | D3: Valor em 19/01/2024 | F3: OSCN | G3: OSBR | H3: OSSO | I3: OSSG
B4: Credores Totais | C4: =COUNTIFS('Consolidado Credores'!$C:$C,"Sim")+G32 -> 318 | D4: =SUMIFS('Consolidado Credores'!$T:$T,'Consolidado Credores'!$C:$C,"Sim") -> 7.9319499e+09 | F4: =SUMIFS('Consolidado Credores'!$T:$T,'Consolidado Credores'!$G:$G,F$3,'Consolidado Credores'!$C:$C,"Sim") -> 7.5554946e+09 | G4: =SUMIFS('Consolidado Credores'!$T:$T,'Consolidado Credores'!$G:$G,G$3,'Consolidado Credores'!$C:$C,"Sim") -> 3.2069205e+08 | H4: =SUMIFS('Consolidado Credores'!$T:$T,'Consolidado Credores'!$G:$G,H$3,'Consolidado Credores'!$C:$C,"Sim") -> 55763320 | I4: =SUMIFS('Consolidado Credores'!$T:$T,'Consolidado Credores'!$G:$G,I$3,'Consolidado Credores'!$C:$C,"Sim") -> 0
B5: Com Valor Positivo | C5: =COUNTIFS('Consolidado Credores'!$S:$S,">="&0,'Consolidado Credores'!$C:$C,"Sim") -> 292 | D5: =SUMIF('Consolidado Credores'!$R$3:$R$332,">"&0,'Consolidado Credores'!$R$3:$R$332) -> 7.8109511e+09 | F5: =SUMIFS('Consolidado Credores'!$T$3:$T$332,'Consolidado Credores'!$R$3:$R$332,">"&0,'Consolidado Credores'!$G$3:$G$332,F$3) -> 7.5554946e+09 | G5: =SUMIFS('Consolidado Credores'!$T$3:$T$332,'Consolidado Credores'!$R$3:$R$332,">"&0,'Consolidado Credores'!$G$3:$G$332,G$3) -> 3.7945445e+08 | H5: =SUMIFS('Consolidado Credores'!$T$3:$T$332,'Consolidado Credores'!$R$3:$R$332,">"&0,'Consolidado Credores'!$G$3:$G$332,H$3) -> 55766176 | I5: =SUMIFS('Consolidado Credores'!$T$3:$T$332,'Consolidado Credores'!$R$3:$R$332,">"&0,'Consolidado Credores'!$G$3:$G$332,I$3) -> 806.68
E8: =1-SUM(E10:E16) -> -0.015490925
B9: Classe | C9: Qtde | D9: Valor em 19/01/2024 | E9: % | F9: OSCN | G9: OSBR | H9: OSSO | I9: OSSG
B10: CLASSE I | C10: =COUNTIFS('Consolidado Credores'!$K:$K,B10,'Consolidado Credores'!$C:$C,"sim")+COUNTIF('Consolidado Contingências Trab'!$K:$K,"Provável") -> 29 | D10: =SUMIFS('Consolidado Credores'!$T:$T,'Consolidado Credores'!$K:$K,B10,'Consolidado Credores'!$C:$C,"sim") -> 411683.06 | E10: =D10/$D$5 -> 5.2705882e-05 | F10: =SUMIFS('Consolidado Credores'!$T:$T,'Consolidado Credores'!$K:$K,$B10,'Consolidado Credores'!$T:$T,">"&0,'Consolidado Credores'!$G:$G,F$9,'Consolidado Credores'!$C:$C,"Sim") -> 161403.5 | G10: =SUMIFS('Consolidado Credores'!$T:$T,'Consolidado Credores'!$K:$K,$B10,'Consolidado Credores'!$T:$T,">"&0,'Consolidado Credores'!$G:$G,G$9,'Consolidado Credores'!$C:$C,"Sim") -> 250279.56 | H10: =SUMIFS('Consolidado Credores'!$T:$T,'Consolidado Credores'!$K:$K,$B10,'Consolidado Credores'!$T:$T,">"&0,'Consolidado Credores'!$G:$G,H$9,'Consolidado Credores'!$C:$C,"Sim") -> 0 | I10: =SUMIFS('Consolidado Credores'!$T:$T,'Consolidado Credores'!$K:$K,$B10,'Consolidado Credores'!$T:$T,">"&0,'Consolidado Credores'!$G:$G,I$9,'Consolidado Credores'!$C:$C,"Sim") -> 0
B11: CLASSE II | C11: =COUNTIFS('Consolidado Credores'!$K:$K,B11,'Consolidado Credores'!$C:$C,"sim") -> 0 | D11: =SUMIFS('Consolidado Credores'!$T:$T,'Consolidado Credores'!$K:$K,B11,'Consolidado Credores'!$C:$C,"sim") -> 0 | E11: =D11/$D$5 -> 0 | F11: =SUMIFS('Consolidado Credores'!$T:$T,'Consolidado Credores'!$K:$K,$B11,'Consolidado Credores'!$T:$T,">"&0,'Consolidado Credores'!$G:$G,F$9,'Consolidado Credores'!$C:$C,"Sim") -> 0 | G11: =SUMIFS('Consolidado Credores'!$T:$T,'Consolidado Credores'!$K:$K,$B11,'Consolidado Credores'!$T:$T,">"&0,'Consolidado Credores'!$G:$G,G$9,'Consolidado Credores'!$C:$C,"Sim") -> 0 | H11: =SUMIFS('Consolidado Credores'!$T:$T,'Consolidado Credores'!$K:$K,$B11,'Consolidado Credores'!$T:$T,">"&0,'Consolidado Credores'!$G:$G,H$9,'Consolidado Credores'!$C:$C,"Sim") -> 0 | I11: =SUMIFS('Consolidado Credores'!$T:$T,'Consolidado Credores'!$K:$K,$B11,'Consolidado Credores'!$T:$T,">"&0,'Consolidado Credores'!$G:$G,I$9,'Consolidado Credores'!$C:$C,"Sim") -> 0
B12: CLASSE III | C12: =COUNTIFS('Consolidado Credores'!$K:$K,B12,'Consolidado Credores'!$C:$C,"sim") -> 253 | D12: =SUMIFS('Consolidado Credores'!$T:$T,'Consolidado Credores'!$K:$K,B12,'Consolidado Credores'!$C:$C,"sim") -> 7.5060784e+09 | E12: =D12/$D$5 -> 0.96096856 | F12: =SUMIFS('Consolidado Credores'!$T:$T,'Consolidado Credores'!$K:$K,$B12,'Consolidado Credores'!$T:$T,">"&0,'Consolidado Credores'!$G:$G,F$9,'Consolidado Credores'!$C:$C,"Sim") -> 7.4803275e+09 | G12: =SUMIFS('Consolidado Credores'!$T:$T,'Consolidado Credores'!$K:$K,$B12,'Consolidado Credores'!$T:$T,">"&0,'Consolidado Credores'!$G:$G,G$9,'Consolidado Credores'!$C:$C,"Sim") -> 25749180 | H12: =SUMIFS('Consolidado Credores'!$T:$T,'Consolidado Credores'!$K:$K,$B12,'Consolidado Credores'!$T:$T,">"&0,'Consolidado Credores'!$G:$G,H$9,'Consolidado Credores'!$C:$C,"Sim") -> 1779.37 | I12: =SUMIFS('Consolidado Credores'!$T:$T,'Consolidado Credores'!$K:$K,$B12,'Consolidado Credores'!$T:$T,">"&0,'Consolidado Credores'!$G:$G,I$9,'Consolidado Credores'!$C:$C,"Sim") -> 0
B13: CLASSE IV | C13: =COUNTIFS('Consolidado Credores'!$K:$K,B13,'Consolidado Credores'!$C:$C,"sim") -> 13 | D13: =SUMIFS('Consolidado Credores'!$T:$T,'Consolidado Credores'!$K:$K,B13,'Consolidado Credores'!$C:$C,"sim") -> 3777352 | E13: =D13/$D$5 -> 0.00048359693 | F13: =SUMIFS('Consolidado Credores'!$T:$T,'Consolidado Credores'!$K:$K,$B13,'Consolidado Credores'!$T:$T,">"&0,'Consolidado Credores'!$G:$G,F$9,'Consolidado Credores'!$C:$C,"Sim") -> 3676568.3 | G13: =SUMIFS('Consolidado Credores'!$T:$T,'Consolidado Credores'!$K:$K,$B13,'Consolidado Credores'!$T:$T,">"&0,'Consolidado Credores'!$G:$G,G$9,'Consolidado Credores'!$C:$C,"Sim") -> 100783.71 | H13: =SUMIFS('Consolidado Credores'!$T:$T,'Consolidado Credores'!$K:$K,$B13,'Consolidado Credores'!$T:$T,">"&0,'Consolidado Credores'!$G:$G,H$9,'Consolidado Credores'!$C:$C,"Sim") -> 0 | I13: =SUMIFS('Consolidado Credores'!$T:$T,'Consolidado Credores'!$K:$K,$B13,'Consolidado Credores'!$T:$T,">"&0,'Consolidado Credores'!$G:$G,I$9,'Consolidado Credores'!$C:$C,"Sim") -> 0
B14: PARTES RELACIONADAS | C14: =COUNTIFS('Consolidado Credores'!$K:$K,B14,'Consolidado Credores'!$C:$C,"sim") -> 23 | D14: =SUMIFS('Consolidado Credores'!$T:$T,'Consolidado Credores'!$K:$K,B14,'Consolidado Credores'!$C:$C,"sim") -> 4.2168248e+08 | E14: =D14/$D$5 -> 0.053986061 | F14: =SUMIFS('Consolidado Credores'!$T:$T,'Consolidado Credores'!$K:$K,$B14,'Consolidado Credores'!$T:$T,">"&0,'Consolidado Credores'!$G:$G,F$9,'Consolidado Credores'!$C:$C,"Sim") -> 71329130 | G14: =SUMIFS('Consolidado Credores'!$T:$T,'Consolidado Credores'!$K:$K,$B14,'Consolidado Credores'!$T:$T,">"&0,'Consolidado Credores'!$G:$G,G$9,'Consolidado Credores'!$C:$C,"Sim") -> 2.9459181e+08 | H14: =SUMIFS('Consolidado Credores'!$T:$T,'Consolidado Credores'!$K:$K,$B14,'Consolidado Credores'!$T:$T,">"&0,'Consolidado Credores'!$G:$G,H$9,'Consolidado Credores'!$C:$C,"Sim") -> 55761540 | I14: =SUMIFS('Consolidado Credores'!$T:$T,'Consolidado Credores'!$K:$K,$B14,'Consolidado Credores'!$T:$T,">"&0,'Consolidado Credores'!$G:$G,I$9,'Consolidado Credores'!$C:$C,"Sim") -> 0
B15: TOTAL | C15: =SUM(C10:C14) -> 318 | D15: =SUM(D10:D14) -> 7.9319499e+09 | F15: =SUM(F10:F14) -> 7.5554946e+09 | G15: =SUM(G10:G14) -> 3.2069205e+08 | H15: =SUM(H10:H14) -> 55763320 | I15: =SUM(I10:I14) -> 0
B16: => Contingências Prováveis Sem valor | C16: =C5-SUM(C10:C14) -> -26 | D16: =D4-SUM(D10:D14) -> 0 | E16: =D16/$D$5 -> 0 | F16: =F4-SUM(F10:F14) -> 0 | G16: =G4-SUM(G10:G14) -> 0 | H16: =H4-SUM(H10:H14) -> 0 | I16: =I4-SUM(I10:I14) -> 0
B19: Pendências de Classificaçao | C19: Qtde
B20: Email | C20: =COUNTIFS('Consolidado Credores'!$F:$F,$B20,'Consolidado Credores'!$S:$S,">"&0,'Consolidado Credores'!$C:$C,"Sim") -> 18
B21: Endereço | C21: =COUNTIFS('Consolidado Credores'!$F:$F,$B21,'Consolidado Credores'!$S:$S,">"&0,'Consolidado Credores'!$C:$C,"Sim") -> 3
B22: Telefone | C22: =COUNTIFS('Consolidado Credores'!$F:$F,$B22,'Consolidado Credores'!$S:$S,">"&0,'Consolidado Credores'!$C:$C,"Sim") -> 9
B23: Telefone; Email | C23: =COUNTIFS('Consolidado Credores'!$F:$F,$B23,'Consolidado Credores'!$S:$S,">"&0,'Consolidado Credores'!$C:$C,"Sim") -> 12
B24: Telefone; Email; Endereço | C24: =COUNTIFS('Consolidado Credores'!$F:$F,$B24,'Consolidado Credores'!$S:$S,">"&0,'Consolidado Credores'!$C:$C,"Sim") -> 3
B25: Telefone; Endereço | C25: =COUNTIFS('Consolidado Credores'!$F:$F,$B25,'Consolidado Credores'!$S:$S,">"&0,'Consolidado Credores'!$C:$C,"Sim") -> 1
B26: Total | C26: =SUM(C20:C25) -> 46
F29: Tabela Contingências Trabalhistas
F30: Contingências | G30: # | H30: OSX BR | I30: OSX CN | J30: Total
F31: Possível | G31: =COUNTIF('Consolidado Contingências Trab'!$K$3:$K$42,F31) -> 13 | H31: =SUMIFS('Consolidado Contingências Trab'!$J:$J,'Consolidado Contingências Trab'!$D:$D,H$30,'Consolidado Contingências Trab'!$K:$K,$F31) -> 431903.09 | I31: =SUMIFS('Consolidado Contingências Trab'!$J:$J,'Consolidado Contingências Trab'!$D:$D,I$30,'Consolidado Contingências Trab'!$K:$K,$F31) -> 50971.55 | J31: =SUM(H31:I31) -> 482874.64
F32: Provável | G32: =COUNTIF('Consolidado Contingências Trab'!$K$3:$K$42,F32) -> 26 | H32: =SUMIFS('Consolidado Contingências Trab'!$J:$J,'Consolidado Contingências Trab'!$D:$D,H$30,'Consolidado Contingências Trab'!$K:$K,$F32) -> 725923.52 | I32: =SUMIFS('Consolidado Contingências Trab'!$J:$J,'Consolidado Contingências Trab'!$D:$D,I$30,'Consolidado Contingências Trab'!$K:$K,$F32) -> 6007029.4 | J32: =SUM(H32:I32) -> 6732953
F33: Total | H33: =SUM(H31:H32) -> 1157826.6 | I33: =SUM(I31:I32) -> 6058001 | J33: =SUM(H33:I33) -> 7215827.6

Sheet Resumo (set.23)
B1: Tabelas Resumo Credores
B3: Credores | C3: Qtde | D3: Valor em 30/09/2023 | F3: OSCN | G3: OSBR | H3: OSSO | I3: OSSG
B4: Credores Totais | C4: =COUNTIFS('Consolidado Credores'!$C:$C,"Sim") -> 292 | D4: =SUMIFS('Consolidado Credores'!$R:$R,'Consolidado Credores'!$C:$C,"Sim") -> 7.7502214e+09 | F4: =SUMIFS('Consolidado Credores'!$R:$R,'Consolidado Credores'!$G:$G,F$3,'Consolidado Credores'!$C:$C,"Sim") -> 7.3764101e+09 | G4: =SUMIFS('Consolidado Credores'!$R:$R,'Consolidado Credores'!$G:$G,G$3,'Consolidado Credores'!$C:$C,"Sim") -> 3.1780105e+08 | H4: =SUMIFS('Consolidado Credores'!$R:$R,'Consolidado Credores'!$G:$G,H$3,'Consolidado Credores'!$C:$C,"Sim") -> 56010305 | I4: =SUMIFS('Consolidado Credores'!$R:$R,'Consolidado Credores'!$G:$G,I$3,'Consolidado Credores'!$C:$C,"Sim") -> 0
B5: Com Valor Positivo | C5: =COUNTIFS('Consolidado Credores'!$R:$R,">="&0,'Consolidado Credores'!$C:$C,"Sim") -> 292 | D5: =SUMIF('Consolidado Credores'!$R$3:$R$332,">"&0,'Consolidado Credores'!$R$3:$R$332) -> 7.8109511e+09 | F5: =SUMIFS('Consolidado Credores'!$R$3:$R$332,'Consolidado Credores'!$R$3:$R$332,">"&0,'Consolidado Credores'!$G$3:$G$332,F$3) -> 7.3771376e+09 | G5: =SUMIFS('Consolidado Credores'!$R$3:$R$332,'Consolidado Credores'!$R$3:$R$332,">"&0,'Consolidado Credores'!$G$3:$G$332,G$3) -> 3.7778166e+08 | H5: =SUMIFS('Consolidado Credores'!$R$3:$R$332,'Consolidado Credores'!$R$3:$R$332,">"&0,'Consolidado Credores'!$G$3:$G$332,H$3) -> 56031044 | I5: =SUMIFS('Consolidado Credores'!$R$3:$R$332,'Consolidado Credores'!$R$3:$R$332,">"&0,'Consolidado Credores'!$G$3:$G$332,I$3) -> 806.68
B8: Credores Valor Positivo | E8: =1-SUM(E10:E15) -> 0.0077749379
B9: Classe | C9: Qtde | D9: Valor em 30/09/2023 | E9: % | F9: OSCN | G9: OSBR | H9: OSSO | I9: OSSG
B10: CLASSE I | C10: =COUNTIFS('Consolidado Credores'!$K:$K,B10,'Consolidado Credores'!$C:$C,"sim")+COUNTIF('Consolidado Contingências Trab'!$K:$K,"Provável") -> 29 | D10: =SUMIFS('Consolidado Credores'!$R:$R,'Consolidado Credores'!$K:$K,B10,'Consolidado Credores'!$C:$C,"sim") -> 477292.09 | E10: =D10/$D$5 -> 6.1105503e-05 | F10: =SUMIFS('Consolidado Credores'!$R:$R,'Consolidado Credores'!$K:$K,$B10,'Consolidado Credores'!$R:$R,">"&0,'Consolidado Credores'!$G:$G,F$9,'Consolidado Credores'!$C:$C,"Sim") -> 159673.3 | G10: =SUMIFS('Consolidado Credores'!$R:$R,'Consolidado Credores'!$K:$K,$B10,'Consolidado Credores'!$R:$R,">"&0,'Consolidado Credores'!$G:$G,G$9,'Consolidado Credores'!$C:$C,"Sim") -> 317618.79 | H10: =SUMIFS('Consolidado Credores'!$R:$R,'Consolidado Credores'!$K:$K,$B10,'Consolidado Credores'!$R:$R,">"&0,'Consolidado Credores'!$G:$G,H$9,'Consolidado Credores'!$C:$C,"Sim") -> 0 | I10: =SUMIFS('Consolidado Credores'!$R:$R,'Consolidado Credores'!$K:$K,$B10,'Consolidado Credores'!$R:$R,">"&0,'Consolidado Credores'!$G:$G,I$9,'Consolidado Credores'!$C:$C,"Sim") -> 0
B11: CLASSE II | C11: =COUNTIFS('Consolidado Credores'!$K:$K,B11,'Consolidado Credores'!$C:$C,"sim") -> 0 | D11: =SUMIFS('Consolidado Credores'!$R:$R,'Consolidado Credores'!$K:$K,B11,'Consolidado Credores'!$C:$C,"sim") -> 0 | E11: =D11/$D$5 -> 0 | F11: =SUMIFS('Consolidado Credores'!$R:$R,'Consolidado Credores'!$K:$K,$B11,'Consolidado Credores'!$R:$R,">"&0,'Consolidado Credores'!$G:$G,F$9,'Consolidado Credores'!$C:$C,"Sim") -> 0 | G11: =SUMIFS('Consolidado Credores'!$R:$R,'Consolidado Credores'!$K:$K,$B11,'Consolidado Credores'!$R:$R,">"&0,'Consolidado Credores'!$G:$G,G$9,'Consolidado Credores'!$C:$C,"Sim") -> 0 | H11: =SUMIFS('Consolidado Credores'!$R:$R,'Consolidado Credores'!$K:$K,$B11,'Consolidado Credores'!$R:$R,">"&0,'Consolidado Credores'!$G:$G,H$9,'Consolidado Credores'!$C:$C,"Sim") -> 0 | I11: =SUMIFS('Consolidado Credores'!$R:$R,'Consolidado Credores'!$K:$K,$B11,'Consolidado Credores'!$R:$R,">"&0,'Consolidado Credores'!$G:$G,I$9,'Consolidado Credores'!$C:$C,"Sim") -> 0
B12: CLASSE III | C12: =COUNTIFS('Consolidado Credores'!$K:$K,B12,'Consolidado Credores'!$C:$C,"sim") -> 253 | D12: =SUMIFS('Consolidado Credores'!$R:$R,'Consolidado Credores'!$K:$K,B12,'Consolidado Credores'!$C:$C,"sim") -> 7.3189198e+09 | E12: =D12/$D$5 -> 0.93700751 | F12: =SUMIFS('Consolidado Credores'!$R:$R,'Consolidado Credores'!$K:$K,$B12,'Consolidado Credores'!$R:$R,">"&0,'Consolidado Credores'!$G:$G,F$9,'Consolidado Credores'!$C:$C,"Sim") -> 7.2932591e+09 | G12: =SUMIFS('Consolidado Credores'!$R:$R,'Consolidado Credores'!$K:$K,$B12,'Consolidado Credores'!$R:$R,">"&0,'Consolidado Credores'!$G:$G,G$9,'Consolidado Credores'!$C:$C,"Sim") -> 25658958 | H12: =SUMIFS('Consolidado Credores'!$R:$R,'Consolidado Credores'!$K:$K,$B12,'Consolidado Credores'!$R:$R,">"&0,'Consolidado Credores'!$G:$G,H$9,'Consolidado Credores'!$C:$C,"Sim") -> 1779.37 | I12: =SUMIFS('Consolidado Credores'!$R:$R,'Consolidado Credores'!$K:$K,$B12,'Consolidado Credores'!$R:$R,">"&0,'Consolidado Credores'!$G:$G,I$9,'Consolidado Credores'!$C:$C,"Sim") -> 0
B13: CLASSE IV | C13: =COUNTIFS('Consolidado Credores'!$K:$K,B13,'Consolidado Credores'!$C:$C,"sim") -> 13 | D13: =SUMIFS('Consolidado Credores'!$R:$R,'Consolidado Credores'!$K:$K,B13,'Consolidado Credores'!$C:$C,"sim") -> 3736925.7 | E13: =D13/$D$5 -> 0.00047842134 | F13: =SUMIFS('Consolidado Credores'!$R:$R,'Consolidado Credores'!$K:$K,$B13,'Consolidado Credores'!$R:$R,">"&0,'Consolidado Credores'!$G:$G,F$9,'Consolidado Credores'!$C:$C,"Sim") -> 3637222.4 | G13: =SUMIFS('Consolidado Credores'!$R:$R,'Consolidado Credores'!$K:$K,$B13,'Consolidado Credores'!$R:$R,">"&0,'Consolidado Credores'!$G:$G,G$9,'Consolidado Credores'!$C:$C,"Sim") -> 99703.343 | H13: =SUMIFS('Consolidado Credores'!$R:$R,'Consolidado Credores'!$K:$K,$B13,'Consolidado Credores'!$R:$R,">"&0,'Consolidado Credores'!$G:$G,H$9,'Consolidado Credores'!$C:$C,"Sim") -> 0 | I13: =SUMIFS('Consolidado Credores'!$R:$R,'Consolidado Credores'!$K:$K,$B13,'Consolidado Credores'!$R:$R,">"&0,'Consolidado Credores'!$G:$G,I$9,'Consolidado Credores'!$C:$C,"Sim") -> 0
B14: PARTES RELACIONADAS | C14: =COUNTIFS('Consolidado Credores'!$K:$K,B14,'Consolidado Credores'!$C:$C,"sim") -> 23 | D14: =SUMIFS('Consolidado Credores'!$R:$R,'Consolidado Credores'!$K:$K,B14,'Consolidado Credores'!$C:$C,"sim") -> 4.270874e+08 | E14: =D14/$D$5 -> 0.054678028 | F14: =SUMIFS('Consolidado Credores'!$R:$R,'Consolidado Credores'!$K:$K,$B14,'Consolidado Credores'!$R:$R,">"&0,'Consolidado Credores'!$G:$G,F$9,'Consolidado Credores'!$C:$C,"Sim") -> 79354106 | G14: =SUMIFS('Consolidado Credores'!$R:$R,'Consolidado Credores'!$K:$K,$B14,'Consolidado Credores'!$R:$R,">"&0,'Consolidado Credores'!$G:$G,G$9,'Consolidado Credores'!$C:$C,"Sim") -> 2.9172477e+08 | H14: =SUMIFS('Consolidado Credores'!$R:$R,'Consolidado Credores'!$K:$K,$B14,'Consolidado Credores'!$R:$R,">"&0,'Consolidado Credores'!$G:$G,H$9,'Consolidado Credores'!$C:$C,"Sim") -> 56008526 | I14: =SUMIFS('Consolidado Credores'!$R:$R,'Consolidado Credores'!$K:$K,$B14,'Consolidado Credores'!$R:$R,">"&0,'Consolidado Credores'!$G:$G,I$9,'Consolidado Credores'!$C:$C,"Sim") -> 0
B15: => Contingências Prováveis Sem valor | C15: =C5-SUM(C10:C14) -> -26 | D15: =D4-SUM(D10:D14) -> 0 | E15: =D15/$D$5 -> 0 | F15: =F4-SUM(F10:F14) -> 0 | G15: =G4-SUM(G10:G14) -> 0 | H15: =H4-SUM(H10:H14) -> 0 | I15: =I4-SUM(I10:I14) -> 0
B18: Pendências de Classificaçao | C18: Qtde
B19: Email | C19: =COUNTIFS('Consolidado Credores'!$F:$F,$B19,'Consolidado Credores'!$R:$R,">"&0,'Consolidado Credores'!$C:$C,"Sim") -> 18
B20: Endereço | C20: =COUNTIFS('Consolidado Credores'!$F:$F,$B20,'Consolidado Credores'!$R:$R,">"&0,'Consolidado Credores'!$C:$C,"Sim") -> 3
B21: Telefone | C21: =COUNTIFS('Consolidado Credores'!$F:$F,$B21,'Consolidado Credores'!$R:$R,">"&0,'Consolidado Credores'!$C:$C,"Sim") -> 9
B22: Telefone; Email | C22: =COUNTIFS('Consolidado Credores'!$F:$F,$B22,'Consolidado Credores'!$R:$R,">"&0,'Consolidado Credores'!$C:$C,"Sim") -> 12
B23: Telefone; Email; Endereço | C23: =COUNTIFS('Consolidado Credores'!$F:$F,$B23,'Consolidado Credores'!$R:$R,">"&0,'Consolidado Credores'!$C:$C,"Sim") -> 3
B24: Telefone; Endereço | C24: =COUNTIFS('Consolidado Credores'!$F:$F,$B24,'Consolidado Credores'!$R:$R,">"&0,'Consolidado Credores'!$C:$C,"Sim") -> 1
B25: Total | C25: =SUM(C19:C24) -> 46
F28: Tabela Contingências Trabalhistas
F29: Contingências | G29: # | H29: OSX BR | I29: OSX CN | J29: Total
F30: Possível | G30: =COUNTIF('Consolidado Contingências Trab'!$K$3:$K$42,F30) -> 13 | H30: =SUMIFS('Consolidado Contingências Trab'!$I:$I,'Consolidado Contingências Trab'!$D:$D,H$29,'Consolidado Contingências Trab'!$K:$K,$F30) -> 477830.16 | I30: =SUMIFS('Consolidado Contingências Trab'!$I:$I,'Consolidado Contingências Trab'!$D:$D,I$29,'Consolidado Contingências Trab'!$K:$K,$F30) -> 68801.22 | J30: =SUM(H30:I30) -> 546631.38
F31: Provável | G31: =COUNTIF('Consolidado Contingências Trab'!$K$3:$K$42,F31) -> 26 | H31: =SUMIFS('Consolidado Contingências Trab'!$I:$I,'Consolidado Contingências Trab'!$D:$D,H$29,'Consolidado Contingências Trab'!$K:$K,$F31) -> 725923.52 | I31: =SUMIFS('Consolidado Contingências Trab'!$I:$I,'Consolidado Contingências Trab'!$D:$D,I$29,'Consolidado Contingências Trab'!$K:$K,$F31) -> 5930983.7 | J31: =SUM(H31:I31) -> 6656907.2
F32: Total | H32: =SUM(H30:H31) -> 1203753.7 | I32: =SUM(I30:I31) -> 5999784.9 | J32: =SUM(H32:I32) -> 7203538.6

Sheet Consolidado Credores
B2: # | C2: ENTRA NO QGC? | D2: OBS Meden 1 | E2: OBS Meden 2 | F2: OBS Meden 3 | G2: Empresa | H2: Verificar | I2: Aba | J2: Tipo | K2: Classe | L2: Credor | M2: CPF/CNPJ | N2: Telefone | O2: E-mail | P2: Endereço Físico | Q2: Moeda | R2: Saldo em 30/09/2023 | S2: Saldo em 31/12/2023 | T2: Saldo em 19/01/2024 | V2: Estava na 1º RJ? | W2: Classe no 1º QGC | X2: Moeda | Y2: Valor do Crédito 1º QGC | Z2: Presta serviço atualmente? | AA2: Observação | AB2: Pagamento é acumulado de quantos meses? | AJ2: x
B3: 686 | C3: Sim | F3: Telefone | G3: =INDEX(INDIRECT($I3&"!$1:$1048576"),MATCH($B3,INDIRECT($I3&"!$A:$A"),),MATCH(G$2,INDIRECT($I3&"!$1:$1"),)) -> OSCN | H3: X | I3: Debêntures | J3: Debenture | K3: CLASSE III | L3: =INDEX(INDIRECT($I3&"!$1:$1048576"),MATCH($B3,INDIRECT($I3&"!$A:$A"),),MATCH(L$2,INDIRECT($I3&"!$1:$1"),)) -> BANCO VOTORANTIM S.A. / BANCO SANTANDER (BRASIL) S.A. | M3: =INDEX(INDIRECT($I3&"!$1:$1048576"),MATCH($B3,INDIRECT($I3&"!$A:$A"),),MATCH(M$2,INDIRECT($I3&"!$1:$1"),)) -> 59.588.111/0001-03 (Votorantim) - 90.400.888/0001-42 (Santander) | N3: =INDEX(INDIRECT($I3&"!$1:$1048576"),MATCH($B3,INDIRECT($I3&"!$A:$A"),),MATCH(N$2,INDIRECT($I3&"!$1:$1"),)) -> 0800 772 8086 (Votorantim) 4004 3535 (Santander) | O3: =INDEX(INDIRECT($I3&"!$1:$1048576"),MATCH($B3,INDIRECT($I3&"!$A:$A"),),MATCH(O$2,INDIRECT($I3&"!$1:$1"),)) -> marco.jesus@bancovotorantim.com.br; rodrigo.cuano@bancovotorantim.com.br; jose.salvini@bancovotorantim.com.br; adriana.vieira@bancovotorantim.com.br; rodrigo.pereira@bancovotorantim.com.br | P3: =INDEX(INDIRECT($I3&"!$1:$1048576"),MATCH($B3,INDIRECT($I3&"!$A:$A"),),MATCH(P$2,INDIRECT($I3&"!$1:$1"),)) -> AVENIDA DAS NACOES UNIDAS 14171, TORRE A ANDAR 18 SÃO PAULO/SP (Votorantim)| AV PRES JUSCELINO KUBITSCHEK 2041 - SÃO PAULO/SP (Santander) | Q3: =INDEX(INDIRECT($I3&"!$1:$1048576"),MATCH($B3,INDIRECT($I3&"!$A:$A"),),MATCH(Q$2,INDIRECT($I3&"!$1:$1"),)) -> Real | R3: =INDEX(INDIRECT($I3&"!$1:$1048576"),MATCH($B3,INDIRECT($I3&"!$A:$A"),),MATCH(R$2,INDIRECT($I3&"!$1:$1"),)) -> 2.2220228e+09 | S3: =INDEX(INDIRECT($I3&"!$1:$1048576"),MATCH($B3,INDIRECT($I3&"!$A:$A"),),MATCH(S$2,INDIRECT($I3&"!$1:$1"),)) -> 2.2850849e+09 | T3: =INDEX(INDIRECT($I3&"!$1:$1048576"),MATCH($B3,INDIRECT($I3&"!$A:$A"),),MATCH(T$2,INDIRECT($I3&"!$1:$1"),)) -> 2.2850849e+09 | V3: =INDEX(INDIRECT($I3&"!$1:$1048576"),MATCH($B3,INDIRECT($I3&"!$A:$A"),),MATCH(V$2,INDIRECT($I3&"!$1:$1"),)) -> SIM | W3: =INDEX(INDIRECT($I3&"!$1:$1048576"),MATCH($B3,INDIRECT($I3&"!$A:$A"),),MATCH(W$2,INDIRECT($I3&"!$1:$1"),)) -> 3 | X3: =INDEX(INDIRECT($I3&"!$1:$1048576"),MATCH($B3,INDIRECT($I3&"!$A:$A"),),MATCH(X$2,INDIRECT($I3&"!$1:$1"),)) -> Real | Y3: =INDEX(INDIRECT($I3&"!$1:$1048576"),MATCH($B3,INDIRECT($I3&"!$A:$A"),),MATCH(Y$2,INDIRECT($I3&"!$1:$1"),)) -> 5.8839759e+08 | Z3: =INDEX(INDIRECT($I3&"!$1:$1048576"),MATCH($B3,INDIRECT($I3&"!$A:$A"),),MATCH(Z$2,INDIRECT($I3&"!$1:$1"),)) -> 0 | AA3: =INDEX(INDIRECT($I3&"!$1:$1048576"),MATCH($B3,INDIRECT($I3&"!$A:$A"),),MATCH(AA$2,INDIRECT($I3&"!$1:$1"),)) -> Debêntures subscritas pelos bancos Votorantim e Santander com créditos concursais | AB3: =IFERROR(INDEX(INDIRECT($I3&"!$1:$1048576"),MATCH($B3,INDIRECT($I3&"!$A:$A"),),MATCH(AB$2,INDIRECT($I3&"!$1:$1"),)),"") -> 0
B4: 681 | C4: Sim | G4: =INDEX(INDIRECT($I4&"!$1:$1048576"),MATCH($B4,INDIRECT($I4&"!$A:$A"),),MATCH(G$2,INDIRECT($I4&"!$1:$1"),)) -> OSCN | H4: X | I4: Empréstimos | J4: Empréstimo | K4: CLASSE III | L4: =INDEX(INDIRECT($I4&"!$1:$1048576"),MATCH($B4,INDIRECT($I4&"!$A:$A"),),MATCH(L$2,INDIRECT($I4&"!$1:$1"),)) -> Caixa Econômica Federal - CEF | M4: =INDEX(INDIRECT($I4&"!$1:$1048576"),MATCH($B4,INDIRECT($I4&"!$A:$A"),),MATCH(M$2,INDIRECT($I4&"!$1:$1"),)) -> 00.360.305/0001-04 | N4: =INDEX(INDIRECT($I4&"!$1:$1048576"),MATCH($B4,INDIRECT($I4&"!$A:$A"),),MATCH(N$2,INDIRECT($I4&"!$1:$1"),)) -> 61 3521-8600 | O4: =INDEX(INDIRECT($I4&"!$1:$1048576"),MATCH($B4,INDIRECT($I4&"!$A:$A"),),MATCH(O$2,INDIRECT($I4&"!$1:$1"),)) -> thiago.paim@caixa.gov.br; antonio.silveira@caixa.gov.br; luis.romero@caixa.gov.br; antonio. silveira@caixa. gov.br | P4: =INDEX(INDIRECT($I4&"!$1:$1048576"),MATCH($B4,INDIRECT($I4&"!$A:$A"),),MATCH(P$2,INDIRECT($I4&"!$1:$1"),)) -> Setor Bancário Sul Quadra 4 34 Bloco A Asa Sul 70092-900 Brasilia Brasilia Distrito Federal Brasil | Q4: =INDEX(INDIRECT($I4&"!$1:$1048576"),MATCH($B4,INDIRECT($I4&"!$A:$A"),),MATCH(Q$2,INDIRECT($I4&"!$1:$1"),)) -> Real | R4: =INDEX(INDIRECT($I4&"!$1:$1048576"),MATCH($B4,INDIRECT($I4&"!$A:$A"),),MATCH(R$2,INDIRECT($I4&"!$1:$1"),)) -> 1.6409002e+09 | S4: =INDEX(INDIRECT($I4&"!$1:$1048576"),MATCH($B4,INDIRECT($I4&"!$A:$A"),),MATCH(S$2,INDIRECT($I4&"!$1:$1"),)) -> 1.6912135e+09 | T4: =INDEX(INDIRECT($I4&"!$1:$1048576"),MATCH($B4,INDIRECT($I4&"!$A:$A"),),MATCH(T$2,INDIRECT($I4&"!$1:$1"),)) -> 1.6912135e+09 | V4: =INDEX(INDIRECT($I4&"!$1:$1048576"),MATCH($B4,INDIRECT($I4&"!$A:$A"),),MATCH(V$2,INDIRECT($I4&"!$1:$1"),)) -> SIM | W4: =INDEX(INDIRECT($I4&"!$1:$1048576"),MATCH($B4,INDIRECT($I4&"!$A:$A"),),MATCH(W$2,INDIRECT($I4&"!$1:$1"),)) -> 3 | X4: =INDEX(INDIRECT($I4&"!$1:$1048576"),MATCH($B4,INDIRECT($I4&"!$A:$A"),),MATCH(X$2,INDIRECT($I4&"!$1:$1"),)) -> Real | Y4: =INDEX(INDIRECT($I4&"!$1:$1048576"),MATCH($B4,INDIRECT($I4&"!$A:$A"),),MATCH(Y$2,INDIRECT($I4&"!$1:$1"),)) -> 461400842 | Z4: =INDEX(INDIRECT($I4&"!$1:$1048576"),MATCH($B4,INDIRECT($I4&"!$A:$A"),),MATCH(Z$2,INDIRECT($I4&"!$1:$1"),)) -> 0 | AA4: =INDEX(INDIRECT($I4&"!$1:$1048576"),MATCH($B4,INDIRECT($I4&"!$A:$A"),),MATCH(AA$2,INDIRECT($I4&"!$1:$1"),)) -> 0 | AB4: =IFERROR(INDEX(INDIRECT($I4&"!$1:$1048576"),MATCH($B4,INDIRECT($I4&"!$A:$A"),),MATCH(AB$2,INDIRECT($I4&"!$1:$1"),)),"") -> 0
B5: 688 | C5: Sim | F5: Telefone | G5: =INDEX(INDIRECT($I5&"!$1:$1048576"),MATCH($B5,INDIRECT($I5&"!$A:$A"),),MATCH(G$2,INDIRECT($I5&"!$1:$1"),)) -> OSCN | H5: X | I5: Debêntures | J5: Debenture | K5: CLASSE III | L5: =INDEX(INDIRECT($I5&"!$1:$1048576"),MATCH($B5,INDIRECT($I5&"!$A:$A"),),MATCH(L$2,INDIRECT($I5&"!$1:$1"),)) -> PRUMO LOGISTICA S.A. | M5: =INDEX(INDIRECT($I5&"!$1:$1048576"),MATCH($B5,INDIRECT($I5&"!$A:$A"),),MATCH(M$2,INDIRECT($I5&"!$1:$1"),)) -> 08.741.499/0001-08 | N5: =INDEX(INDIRECT($I5&"!$1:$1048576"),MATCH($B5,INDIRECT($I5&"!$A:$A"),),MATCH(N$2,INDIRECT($I5&"!$1:$1"),)) -> 21 37258000 | O5: =INDEX(INDIRECT($I5&"!$1:$1048576"),MATCH($B5,INDIRECT($I5&"!$A:$A"),),MATCH(O$2,INDIRECT($I5&"!$1:$1"),)) -> flavio.valle@prumologistica.com.br; eugenio.figueiredo@prumologistica.com.br; diego.antunes@prumologistica.com.br | P5: =INDEX(INDIRECT($I5&"!$1:$1048576"),MATCH($B5,INDIRECT($I5&"!$A:$A"),),MATCH(P$2,INDIRECT($I5&"!$1:$1"),)) -> R DO RUSSEL 804, 5 ANDAR - RIO DE JANEIRO/RJ | Q5: =INDEX(INDIRECT($I5&"!$1:$1048576"),MATCH($B5,INDIRECT($I5&"!$A:$A"),),MATCH(Q$2,INDIRECT($I5&"!$1:$1"),)) -> Real | R5: =INDEX(INDIRECT($I5&"!$1:$1048576"),MATCH($B5,INDIRECT($I5&"!$A:$A"),),MATCH(R$2,INDIRECT($I5&"!$1:$1"),)) -> 1.5318327e+09 | S5: =INDEX(INDIRECT($I5&"!$1:$1048576"),MATCH($B5,INDIRECT($I5&"!$A:$A"),),MATCH(S$2,INDIRECT($I5&"!$1:$1"),)) -> 1.575307e+09 | T5: =INDEX(INDIRECT($I5&"!$1:$1048576"),MATCH($B5,INDIRECT($I5&"!$A:$A"),),MATCH(T$2,INDIRECT($I5&"!$1:$1"),)) -> 1.575307e+09 | V5: =INDEX(INDIRECT($I5&"!$1:$1048576"),MATCH($B5,INDIRECT($I5&"!$A:$A"),),MATCH(V$2,INDIRECT($I5&"!$1:$1"),)) -> 0 | W5: =INDEX(INDIRECT($I5&"!$1:$1048576"),MATCH($B5,INDIRECT($I5&"!$A:$A"),),MATCH(W$2,INDIRECT($I5&"!$1:$1"),)) -> 0 | X5: =INDEX(INDIRECT($I5&"!$1:$1048576"),MATCH($B5,INDIRECT($I5&"!$A:$A"),),MATCH(X$2,INDIRECT($I5&"!$1:$1"),)) -> Real | Y5: =INDEX(INDIRECT($I5&"!$1:$1048576"),MATCH($B5,INDIRECT($I5&"!$A:$A"),),MATCH(Y$2,INDIRECT($I5&"!$1:$1"),)) -> 0 | Z5: =INDEX(INDIRECT($I5&"!$1:$1048576"),MATCH($B5,INDIRECT($I5&"!$A:$A"),),MATCH(Z$2,INDIRECT($I5&"!$1:$1"),)) -> 0 | AA5: =INDEX(INDIRECT($I5&"!$1:$1048576"),MATCH($B5,INDIRECT($I5&"!$A:$A"),),MATCH(AA$2,INDIRECT($I5&"!$1:$1"),)) -> Debêntures subscritas pela Prumo com créditos concursais / extraconcursais | AB5: =IFERROR(INDEX(INDIRECT($I5&"!$1:$1048576"),MATCH($B5,INDIRECT($I5&"!$A:$A"),),MATCH(AB$2,INDIRECT($I5&"!$1:$1"),)),"") -> 0
B6: 25 | C6: Sim | D6: Classificado plano Antigo | G6: =INDEX(INDIRECT($I6&"!$1:$1048576"),MATCH($B6,INDIRECT($I6&"!$A:$A"),),MATCH(G$2,INDIRECT($I6&"!$1:$1"),)) -> OSCN | H6: X | I6: Fornecedores | J6: Quirografário | K6: CLASSE III | L6: =INDEX(INDIRECT($I6&"!$1:$1048576"),MATCH($B6,INDIRECT($I6&"!$A:$A"),),MATCH(L$2,INDIRECT($I6&"!$1:$1"),)) -> ACCIONA INFRAESTRUCTURAS S.A | M6: =INDEX(INDIRECT($I6&"!$1:$1048576"),MATCH($B6,INDIRECT($I6&"!$A:$A"),),MATCH(M$2,INDIRECT($I6&"!$1:$1"),)) -> 3503152000600 | N6: =INDEX(INDIRECT($I6&"!$1:$1048576"),MATCH($B6,INDIRECT($I6&"!$A:$A"),),MATCH(N$2,INDIRECT($I6&"!$1:$1"),)) -> 11 30748300 | O6: =INDEX(INDIRECT($I6&"!$1:$1048576"),MATCH($B6,INDIRECT($I6&"!$A:$A"),),MATCH(O$2,INDIRECT($I6&"!$1:$1"),)) -> wribeiro@acciona.com.br | P6: =INDEX(INDIRECT($I6&"!$1:$1048576"),MATCH($B6,INDIRECT($I6&"!$A:$A"),),MATCH(P$2,INDIRECT($I6&"!$1:$1"),)) -> Av Carlos Alberto Chebase 2667 Km 08 Pqe. Guarus 28073506 Rio de Janeiro Campos dos Goytacazes BRASIL | Q6: =INDEX(INDIRECT($I6&"!$1:$1048576"),MATCH($B6,INDIRECT($I6&"!$A:$A"),),MATCH(Q$2,INDIRECT($I6&"!$1:$1"),)) -> Real | R6: =INDEX(INDIRECT($I6&"!$1:$1048576"),MATCH($B6,INDIRECT($I6&"!$A:$A"),),MATCH(R$2,INDIRECT($I6&"!$1:$1"),)) -> 4.9787706e+08 | S6: =INDEX(INDIRECT($I6&"!$1:$1048576"),MATCH($B6,INDIRECT($I6&"!$A:$A"),),MATCH(S$2,INDIRECT($I6&"!$1:$1"),)) -> 5.03272e+08 | T6: =INDEX(INDIRECT($I6&"!$1:$1048576"),MATCH($B6,INDIRECT($I6&"!$A:$A"),),MATCH(T$2,INDIRECT($I6&"!$1:$1"),)) -> 5.03272e+08 | V6: =INDEX(INDIRECT($I6&"!$1:$1048576"),MATCH($B6,INDIRECT($I6&"!$A:$A"),),MATCH(V$2,INDIRECT($I6&"!$1:$1"),)) -> SIM | W6: =INDEX(INDIRECT($I6&"!$1:$1048576"),MATCH($B6,INDIRECT($I6&"!$A:$A"),),MATCH(W$2,INDIRECT($I6&"!$1:$1"),)) -> 3 | X6: =INDEX(INDIRECT($I6&"!$1:$1048576"),MATCH($B6,INDIRECT($I6&"!$A:$A"),),MATCH(X$2,INDIRECT($I6&"!$1:$1"),)) -> Real | Y6: =INDEX(INDIRECT($I6&"!$1:$1048576"),MATCH($B6,INDIRECT($I6&"!$A:$A"),),MATCH(Y$2,INDIRECT($I6&"!$1:$1"),)) -> 302566667 | Z6: =INDEX(INDIRECT($I6&"!$1:$1048576"),MATCH($B6,INDIRECT($I6&"!$A:$A"),),MATCH(Z$2,INDIRECT($I6&"!$1:$1"),)) -> Não | AA6: =INDEX(INDIRECT($I6&"!$1:$1048576"),MATCH($B6,INDIRECT($I6&"!$A:$A"),),MATCH(AA$2,INDIRECT($I6&"!$1:$1"),)) -> 0 | AB6: =IFERROR(INDEX(INDIRECT($I6&"!$1:$1048576"),MATCH($B6,INDIRECT($I6&"!$A:$A"),),MATCH(AB$2,INDIRECT($I6&"!$1:$1"),)),"") -> 0
B7: 682 | C7: Sim | G7: =INDEX(INDIRECT($I7&"!$1:$1048576"),MATCH($B7,INDIRECT($I7&"!$A:$A"),),MATCH(G$2,INDIRECT($I7&"!$1:$1"),)) -> OSCN | H7: Confirmar Classe | I7: Empréstimos | J7: Empréstimo | K7: CLASSE III | L7: =INDEX(INDIRECT($I7&"!$1:$1048576"),MATCH($B7,INDIRECT($I7&"!$A:$A"),),MATCH(L$2,INDIRECT($I7&"!$1:$1"),)) -> BANCO BTG PACTUAL S.A. | M7: =INDEX(INDIRECT($I7&"!$1:$1048576"),MATCH($B7,INDIRECT($I7&"!$A:$A"),),MATCH(M$2,INDIRECT($I7&"!$1:$1"),)) -> 30.306.294/0001-45 | N7: =INDEX(INDIRECT($I7&"!$1:$1048576"),MATCH($B7,INDIRECT($I7&"!$A:$A"),),MATCH(N$2,INDIRECT($I7&"!$1:$1"),)) -> 21 3262-9757 | O7: =INDEX(INDIRECT($I7&"!$1:$1048576"),MATCH($B7,INDIRECT($I7&"!$A:$A"),),MATCH(O$2,INDIRECT($I7&"!$1:$1"),)) -> gustavo.Martinez@btgpactual.com | P7: =INDEX(INDIRECT($I7&"!$1:$1048576"),MATCH($B7,INDIRECT($I7&"!$A:$A"),),MATCH(P$2,INDIRECT($I7&"!$1:$1"),)) -> Pr Botafogo 501 Bloco ll Sal 501 Blc ll Sal 601 Botafogo 22250-911 Rio de Janeiro Rio de Janeiro Rio de Janeiro Brasil | Q7: =INDEX(INDIRECT($I7&"!$1:$1048576"),MATCH($B7,INDIRECT($I7&"!$A:$A"),),MATCH(Q$2,INDIRECT($I7&"!$1:$1"),)) -> Real | R7: =INDEX(INDIRECT($I7&"!$1:$1048576"),MATCH($B7,INDIRECT($I7&"!$A:$A"),),MATCH(R$2,INDIRECT($I7&"!$1:$1"),)) -> 3.6378102e+08 | S7: =INDEX(INDIRECT($I7&"!$1:$1048576"),MATCH($B7,INDIRECT($I7&"!$A:$A"),),MATCH(S$2,INDIRECT($I7&"!$1:$1"),)) -> 3.7773295e+08 | T7: =INDEX(INDIRECT($I7&"!$1:$1048576"),MATCH($B7,INDIRECT($I7&"!$A:$A"),),MATCH(T$2,INDIRECT($I7&"!$1:$1"),)) -> 3.7773295e+08 | V7: =INDEX(INDIRECT($I7&"!$1:$1048576"),MATCH($B7,INDIRECT($I7&"!$A:$A"),),MATCH(V$2,INDIRECT($I7&"!$1:$1"),)) -> 0 | W7: =INDEX(INDIRECT($I7&"!$1:$1048576"),MATCH($B7,INDIRECT($I7&"!$A:$A"),),MATCH(W$2,INDIRECT($I7&"!$1:$1"),)) -> 0 | X7: =INDEX(INDIRECT($I7&"!$1:$1048576"),MATCH($B7,INDIRECT($I7&"!$A:$A"),),MATCH(X$2,INDIRECT($I7&"!$1:$1"),)) -> Real | Y7: =INDEX(INDIRECT($I7&"!$1:$1048576"),MATCH($B7,INDIRECT($I7&"!$A:$A"),),MATCH(Y$2,INDIRECT($I7&"!$1:$1"),)) -> 0 | Z7: =INDEX(INDIRECT($I7&"!$1:$1048576"),MATCH($B7,INDIRECT($I7&"!$A:$A"),),MATCH(Z$2,INDIRECT($I7&"!$1:$1"),)) -> 0 | AA7: =INDEX(INDIRECT($I7&"!$1:$1048576"),MATCH($B7,INDIRECT($I7&"!$A:$A"),),MATCH(AA$2,INDIRECT($I7&"!$1:$1"),)) -> Não consta no 1º QGC | AB7: =IFERROR(INDEX(INDIRECT($I7&"!$1:$1048576"),MATCH($B7,INDIRECT($I7&"!$A:$A"),),MATCH(AB$2,INDIRECT($I7&"!$1:$1"),)),"") -> 0
B8: 57 | C8: Sim | D8: Classificado plano Antigo | G8: =INDEX(INDIRECT($I8&"!$1:$1048576"),MATCH($B8,INDIRECT($I8&"!$A:$A"),),MATCH(G$2,INDIRECT($I8&"!$1:$1"),)) -> OSCN | H8: X | I8: Fornecedores | J8: Quirografário | K8: CLASSE III | L8: =INDEX(INDIRECT($I8&"!$1:$1048576"),MATCH($B8,INDIRECT($I8&"!$A:$A"),),MATCH(L$2,INDIRECT($I8&"!$1:$1"),)) -> ARG LTDA | M8: =INDEX(INDIRECT($I8&"!$1:$1048576"),MATCH($B8,INDIRECT($I8&"!$A:$A"),),MATCH(M$2,INDIRECT($I8&"!$1:$1"),)) -> 20520862000152 | N8: =INDEX(INDIRECT($I8&"!$1:$1048576"),MATCH($B8,INDIRECT($I8&"!$A:$A"),),MATCH(N$2,INDIRECT($I8&"!$1:$1"),)) -> 31 2103-7020 | O8: =INDEX(INDIRECT($I8&"!$1:$1048576"),MATCH($B8,INDIRECT($I8&"!$A:$A"),),MATCH(O$2,INDIRECT($I8&"!$1:$1"),)) -> celso@grupoarg.com.br | P8: =INDEX(INDIRECT($I8&"!$1:$1048576"),MATCH($B8,INDIRECT($I8&"!$A:$A"),),MATCH(P$2,INDIRECT($I8&"!$1:$1"),)) -> Av Raja Gabaglia 1255 14o andar Luxemburgo 30380-435 Belo Horizonte Belo Horizonte MG BRASIL | Q8: =INDEX(INDIRECT($I8&"!$1:$1048576"),MATCH($B8,INDIRECT($I8&"!$A:$A"),),MATCH(Q$2,INDIRECT($I8&"!$1:$1"),)) -> Real | R8: =INDEX(INDIRECT($I8&"!$1:$1048576"),MATCH($B8,INDIRECT($I8&"!$A:$A"),),MATCH(R$2,INDIRECT($I8&"!$1:$1"),)) -> 1.4735519e+08 | S8: =INDEX(INDIRECT($I8&"!$1:$1048576"),MATCH($B8,INDIRECT($I8&"!$A:$A"),),MATCH(S$2,INDIRECT($I8&"!$1:$1"),)) -> 1.4895191e+08 | T8: =INDEX(INDIRECT($I8&"!$1:$1048576"),MATCH($B8,INDIRECT($I8&"!$A:$A"),),MATCH(T$2,INDIRECT($I8&"!$1:$1"),)) -> 1.4895191e+08 | V8: =INDEX(INDIRECT($I8&"!$1:$1048576"),MATCH($B8,INDIRECT($I8&"!$A:$A"),),MATCH(V$2,INDIRECT($I8&"!$1:$1"),)) -> SIM | W8: =INDEX(INDIRECT($I8&"!$1:$1048576"),MATCH($B8,INDIRECT($I8&"!$A:$A"),),MATCH(W$2,INDIRECT($I8&"!$1:$1"),)) -> 3 | X8: =INDEX(INDIRECT($I8&"!$1:$1048576"),MATCH($B8,INDIRECT($I8&"!$A:$A"),),MATCH(X$2,INDIRECT($I8&"!$1:$1"),)) -> Real | Y8: =INDEX(INDIRECT($I8&"!$1:$1048576"),MATCH($B8,INDIRECT($I8&"!$A:$A"),),MATCH(Y$2,INDIRECT($I8&"!$1:$1"),)) -> 81195483 | Z8: =INDEX(INDIRECT($I8&"!$1:$1048576"),MATCH($B8,INDIRECT($I8&"!$A:$A"),),MATCH(Z$2,INDIRECT($I8&"!$1:$1"),)) -> Não | AA8: =INDEX(INDIRECT($I8&"!$1:$1048576"),MATCH($B8,INDIRECT($I8&"!$A:$A"),),MATCH(AA$2,INDIRECT($I8&"!$1:$1"),)) -> 0 | AB8: =IFERROR(INDEX(INDIRECT($I8&"!$1:$1048576"),MATCH($B8,INDIRECT($I8&"!$A:$A"),),MATCH(AB$2,INDIRECT($I8&"!$1:$1"),)),"") -> 0
B9: 695 | C9: Sim | D9: Classificado pela Meden | G9: =INDEX(INDIRECT($I9&"!$1:$1048576"),MATCH($B9,INDIRECT($I9&"!$A:$A"),),MATCH(G$2,INDIRECT($I9&"!$1:$1"),)) -> OSBR | I9: Partes_Relacionadas | J9: Partes Relacionadas | K9: PARTES RELACIONADAS | L9: =INDEX(INDIRECT($I9&"!$1:$1048576"),MATCH($B9,INDIRECT($I9&"!$A:$A"),),MATCH(L$2,INDIRECT($I9&"!$1:$1"),)) -> OSX Serviços Operacionais Ltda | M9: =INDEX(INDIRECT($I9&"!$1:$1048576"),MATCH($B9,INDIRECT($I9&"!$A:$A"),),MATCH(M$2,INDIRECT($I9&"!$1:$1"),)) -> 11.437.203/0001-66 | N9: =INDEX(INDIRECT($I9&"!$1:$1048576"),MATCH($B9,INDIRECT($I9&"!$A:$A"),),MATCH(N$2,INDIRECT($I9&"!$1:$1"),)) -> 21 3237-5200 | O9: =INDEX(INDIRECT($I9&"!$1:$1048576"),MATCH($B9,INDIRECT($I9&"!$A:$A"),),MATCH(O$2,INDIRECT($I9&"!$1:$1"),)) -> faturamento@osx.com.br | P9: =INDEX(INDIRECT($I9&"!$1:$1048576"),MATCH($B9,INDIRECT($I9&"!$A:$A"),),MATCH(P$2,INDIRECT($I9&"!$1:$1"),)) -> Rua Lauro Muller 116 Sala 2405 Botafogo 22290-160 Rio de Janeiro Rio de Janeiro RJ | Q9: =INDEX(INDIRECT($I9&"!$1:$1048576"),MATCH($B9,INDIRECT($I9&"!$A:$A"),),MATCH(Q$2,INDIRECT($I9&"!$1:$1"),)) -> Real | R9: =INDEX(INDIRECT($I9&"!$1:$1048576"),MATCH($B9,INDIRECT($I9&"!$A:$A"),),MATCH(R$2,INDIRECT($I9&"!$1:$1"),)) -> 1.0859682e+08 | S9: =INDEX(INDIRECT($I9&"!$1:$1048576"),MATCH($B9,INDIRECT($I9&"!$A:$A"),),MATCH(S$2,INDIRECT($I9&"!$1:$1"),)) -> 1.1138549e+08 | T9: =INDEX(INDIRECT($I9&"!$1:$1048576"),MATCH($B9,INDIRECT($I9&"!$A:$A"),),MATCH(T$2,INDIRECT($I9&"!$1:$1"),)) -> 1.1138549e+08 | V9: =INDEX(INDIRECT($I9&"!$1:$1048576"),MATCH($B9,INDIRECT($I9&"!$A:$A"),),MATCH(V$2,INDIRECT($I9&"!$1:$1"),)) -> -2788677.5 | W9: =INDEX(INDIRECT($I9&"!$1:$1048576"),MATCH($B9,INDIRECT($I9&"!$A:$A"),),MATCH(W$2,INDIRECT($I9&"!$1:$1"),)) -> 0 | X9: =INDEX(INDIRECT($I9&"!$1:$1048576"),MATCH($B9,INDIRECT($I9&"!$A:$A"),),MATCH(X$2,INDIRECT($I9&"!$1:$1"),)) -> Real | Y9: =INDEX(INDIRECT($I9&"!$1:$1048576"),MATCH($B9,INDIRECT($I9&"!$A:$A"),),MATCH(Y$2,INDIRECT($I9&"!$1:$1"),)) -> 0 | Z9: =INDEX(INDIRECT($I9&"!$1:$1048576"),MATCH($B9,INDIRECT($I9&"!$A:$A"),),MATCH(Z$2,INDIRECT($I9&"!$1:$1"),)) -> 0 | AA9: =INDEX(INDIRECT($I9&"!$1:$1048576"),MATCH($B9,INDIRECT($I9&"!$A:$A"),),MATCH(AA$2,INDIRECT($I9&"!$1:$1"),)) -> 0 | AB9: =IFERROR(INDEX(INDIRECT($I9&"!$1:$1048576"),MATCH($B9,INDIRECT($I9&"!$A:$A"),),MATCH(AB$2,INDIRECT($I9&"!$1:$1"),)),"") -> 0
B10: 581 | C10: Sim | D10: Classificado plano Antigo | G10: =INDEX(INDIRECT($I10&"!$1:$1048576"),MATCH($B10,INDIRECT($I10&"!$A:$A"),),MATCH(G$2,INDIRECT($I10&"!$1:$1"),)) -> OSCN | H10: X | I10: Fornecedores | J10: Quirografário | K10: CLASSE III | L10: =INDEX(INDIRECT($I10&"!$1:$1048576"),MATCH($B10,INDIRECT($I10&"!$A:$A"),),MATCH(L$2,INDIRECT($I10&"!$1:$1"),)) -> SPE CENTRAL DE UTILIDADES RIO SA | M10: =INDEX(INDIRECT($I10&"!$1:$1048576"),MATCH($B10,INDIRECT($I10&"!$A:$A"),),MATCH(M$2,INDIRECT($I10&"!$1:$1"),)) -> 15.400.869/0001-09 | N10: =INDEX(INDIRECT($I10&"!$1:$1048576"),MATCH($B10,INDIRECT($I10&"!$A:$A"),),MATCH(N$2,INDIRECT($I10&"!$1:$1"),)) -> 11 3076-2700 | O10: =INDEX(INDIRECT($I10&"!$1:$1048576"),MATCH($B10,INDIRECT($I10&"!$A:$A"),),MATCH(O$2,INDIRECT($I10&"!$1:$1"),)) -> fiscal@enfil.com.br | P10: =INDEX(INDIRECT($I10&"!$1:$1048576"),MATCH($B10,INDIRECT($I10&"!$A:$A"),),MATCH(P$2,INDIRECT($I10&"!$1:$1"),)) -> Rua Dr Fernandes Coelho 85 11 andar Bloco S Pinheiros 05423-040 São Paulo São Paulo SP BRASIL | Q10: =INDEX(INDIRECT($I10&"!$1:$1048576"),MATCH($B10,INDIRECT($I10&"!$A:$A"),),MATCH(Q$2,INDIRECT($I10&"!$1:$1"),)) -> Real | R10: =INDEX(INDIRECT($I10&"!$1:$1048576"),MATCH($B10,INDIRECT($I10&"!$A:$A"),),MATCH(R$2,INDIRECT($I10&"!$1:$1"),)) -> 92228887 | S10: =INDEX(INDIRECT($I10&"!$1:$1048576"),MATCH($B10,INDIRECT($I10&"!$A:$A"),),MATCH(S$2,INDIRECT($I10&"!$1:$1"),)) -> 93228268 | T10: =INDEX(INDIRECT($I10&"!$1:$1048576"),MATCH($B10,INDIRECT($I10&"!$A:$A"),),MATCH(T$2,INDIRECT($I10&"!$1:$1"),)) -> 93228268 | V10: =INDEX(INDIRECT($I10&"!$1:$1048576"),MATCH($B10,INDIRECT($I10&"!$A:$A"),),MATCH(V$2,INDIRECT($I10&"!$1:$1"),)) -> SIM | W10: =INDEX(INDIRECT($I10&"!$1:$1048576"),MATCH($B10,INDIRECT($I10&"!$A:$A"),),MATCH(W$2,INDIRECT($I10&"!$1:$1"),)) -> 3 | X10: =INDEX(INDIRECT($I10&"!$1:$1048576"),MATCH($B10,INDIRECT($I10&"!$A:$A"),),MATCH(X$2,INDIRECT($I10&"!$1:$1"),)) -> Real | Y10: =INDEX(INDIRECT($I10&"!$1:$1048576"),MATCH($B10,INDIRECT($I10&"!$A:$A"),),MATCH(Y$2,INDIRECT($I10&"!$1:$1"),)) -> 56048750 | Z10: =INDEX(INDIRECT($I10&"!$1:$1048576"),MATCH($B10,INDIRECT($I10&"!$A:$A"),),MATCH(Z$2,INDIRECT($I10&"!$1:$1"),)) -> Não | AA10: =INDEX(INDIRECT($I10&"!$1:$1048576"),MATCH($B10,INDIRECT($I10&"!$A:$A"),),MATCH(AA$2,INDIRECT($I10&"!$1:$1"),)) -> 0 | AB10: =IFERROR(INDEX(INDIRECT($I10&"!$1:$1048576"),MATCH($B10,INDIRECT($I10&"!$A:$A"),),MATCH(AB$2,INDIRECT($I10&"!$1:$1"),)),"") -> 0
B11: 287 | C11: Sim | D11: Classificado plano Antigo | F11: Telefone; Email | G11: =INDEX(INDIRECT($I11&"!$1:$1048576"),MATCH($B11,INDIRECT($I11&"!$A:$A"),),MATCH(G$2,INDIRECT($I11&"!$1:$1"),)) -> OSCN | H11: X | I11: Fornecedores | J11: Quirografário | K11: CLASSE III | L11: =INDEX(INDIRECT($I11&"!$1:$1048576"),MATCH($B11,INDIRECT($I11&"!$A:$A"),),MATCH(L$2,INDIRECT($I11&"!$1:$1"),)) -> HYUNDAI CORPORATION | M11: =INDEX(INDIRECT($I11&"!$1:$1048576"),MATCH($B11,INDIRECT($I11&"!$A:$A"),),MATCH(M$2,INDIRECT($I11&"!$1:$1"),)) -> estrangeira | N11: =INDEX(INDIRECT($I11&"!$1:$1048576"),MATCH($B11,INDIRECT($I11&"!$A:$A"),),MATCH(N$2,INDIRECT($I11&"!$1:$1"),)) -> não encontrado | O11: =INDEX(INDIRECT($I11&"!$1:$1048576"),MATCH($B11,INDIRECT($I11&"!$A:$A"),),MATCH(O$2,INDIRECT($I11&"!$1:$1"),)) -> não encontrado | P11: =INDEX(INDIRECT($I11&"!$1:$1048576"),MATCH($B11,INDIRECT($I11&"!$A:$A"),),MATCH(P$2,INDIRECT($I11&"!$1:$1"),)) -> 140-2Kye-Dong,Jongno-Gu, Seoul 110-793 Korea | Q11: =INDEX(INDIRECT($I11&"!$1:$1048576"),MATCH($B11,INDIRECT($I11&"!$A:$A"),),MATCH(Q$2,INDIRECT($I11&"!$1:$1"),)) -> Real | R11: =INDEX(INDIRECT($I11&"!$1:$1048576"),MATCH($B11,INDIRECT($I11&"!$A:$A"),),MATCH(R$2,INDIRECT($I11&"!$1:$1"),)) -> 94281050 | S11: =INDEX(INDIRECT($I11&"!$1:$1048576"),MATCH($B11,INDIRECT($I11&"!$A:$A"),),MATCH(S$2,INDIRECT($I11&"!$1:$1"),)) -> 92137649 | T11: =INDEX(INDIRECT($I11&"!$1:$1048576"),MATCH($B11,INDIRECT($I11&"!$A:$A"),),MATCH(T$2,INDIRECT($I11&"!$1:$1"),)) -> 92137649 | V11: =INDEX(INDIRECT($I11&"!$1:$1048576"),MATCH($B11,INDIRECT($I11&"!$A:$A"),),MATCH(V$2,INDIRECT($I11&"!$1:$1"),)) -> SIM | W11: =INDEX(INDIRECT($I11&"!$1:$1048576"),MATCH($B11,INDIRECT($I11&"!$A:$A"),),MATCH(W$2,INDIRECT($I11&"!$1:$1"),)) -> 3 | X11: =INDEX(INDIRECT($I11&"!$1:$1048576"),MATCH($B11,INDIRECT($I11&"!$A:$A"),),MATCH(X$2,INDIRECT($I11&"!$1:$1"),)) -> Real | Y11: =INDEX(INDIRECT($I11&"!$1:$1048576"),MATCH($B11,INDIRECT($I11&"!$A:$A"),),MATCH(Y$2,INDIRECT($I11&"!$1:$1"),)) -> 11443107 | Z11: =INDEX(INDIRECT($I11&"!$1:$1048576"),MATCH($B11,INDIRECT($I11&"!$A:$A"),),MATCH(Z$2,INDIRECT($I11&"!$1:$1"),)) -> Não | AA11: =INDEX(INDIRECT($I11&"!$1:$1048576"),MATCH($B11,INDIRECT($I11&"!$A:$A"),),MATCH(AA$2,INDIRECT($I11&"!$1:$1"),)) -> 0 | AB11: =IFERROR(INDEX(INDIRECT($I11&"!$1:$1048576"),MATCH($B11,INDIRECT($I11&"!$A:$A"),),MATCH(AB$2,INDIRECT($I11&"!$1:$1"),)),"") -> 0 | AC11: x
B12: 684 | C12: Sim | F12: Endereço | G12: =INDEX(INDIRECT($I12&"!$1:$1048576"),MATCH($B12,INDIRECT($I12&"!$A:$A"),),MATCH(G$2,INDIRECT($I12&"!$1:$1"),)) -> OSCN | H12: X | I12: Fianças | J12: Fiança | K12: CLASSE III | L12: =INDEX(INDIRECT($I12&"!$1:$1048576"),MATCH($B12,INDIRECT($I12&"!$A:$A"),),MATCH(L$2,INDIRECT($I12&"!$1:$1"),)) -> BANCO BTG PACTUAL S.A. | M12: =INDEX(INDIRECT($I12&"!$1:$1048576"),MATCH($B12,INDIRECT($I12&"!$A:$A"),),MATCH(M$2,INDIRECT($I12&"!$1:$1"),)) -> 30.306.294/0001-45 | N12: =INDEX(INDIRECT($I12&"!$1:$1048576"),MATCH($B12,INDIRECT($I12&"!$A:$A"),),MATCH(N$2,INDIRECT($I12&"!$1:$1"),)) -> 11 96468-0022 | O12: =INDEX(INDIRECT($I12&"!$1:$1048576"),MATCH($B12,INDIRECT($I12&"!$A:$A"),),MATCH(O$2,INDIRECT($I12&"!$1:$1"),)) -> gustavo.Martinez@btgpactual.com | P12: =INDEX(INDIRECT($I12&"!$1:$1048576"),MATCH($B12,INDIRECT($I12&"!$A:$A"),),MATCH(P$2,INDIRECT($I12&"!$1:$1"),)) -> Pr Botafogo 501 Bloco ll Sal 501 Blc ll Sal 601 Botafogo 22250-911 Rio de Janeiro Rio de Janeiro Rio de Janeiro Brasil | Q12: =INDEX(INDIRECT($I12&"!$1:$1048576"),MATCH($B12,INDIRECT($I12&"!$A:$A"),),MATCH(Q$2,INDIRECT($I12&"!$1:$1"),)) -> Real | R12: =INDEX(INDIRECT($I12&"!$1:$1048576"),MATCH($B12,INDIRECT($I12&"!$A:$A"),),MATCH(R$2,INDIRECT($I12&"!$1:$1"),)) -> 59514860 | S12: =INDEX(INDIRECT($I12&"!$1:$1048576"),MATCH($B12,INDIRECT($I12&"!$A:$A"),),MATCH(S$2,INDIRECT($I12&"!$1:$1"),)) -> 61466782 | T12: =INDEX(INDIRECT($I12&"!$1:$1048576"),MATCH($B12,INDIRECT($I12&"!$A:$A"),),MATCH(T$2,INDIRECT($I12&"!$1:$1"),)) -> 61466782 | V12: =INDEX(INDIRECT($I12&"!$1:$1048576"),MATCH($B12,INDIRECT($I12&"!$A:$A"),),MATCH(V$2,INDIRECT($I12&"!$1:$1"),)) -> 0 | W12: =INDEX(INDIRECT($I12&"!$1:$1048576"),MATCH($B12,INDIRECT($I12&"!$A:$A"),),MATCH(W$2,INDIRECT($I12&"!$1:$1"),)) -> 0 | X12: =INDEX(INDIRECT($I12&"!$1:$1048576"),MATCH($B12,INDIRECT($I12&"!$A:$A"),),MATCH(X$2,INDIRECT($I12&"!$1:$1"),)) -> Real | Y12: =INDEX(INDIRECT($I12&"!$1:$1048576"),MATCH($B12,INDIRECT($I12&"!$A:$A"),),MATCH(Y$2,INDIRECT($I12&"!$1:$1"),)) -> 0 | Z12: =INDEX(INDIRECT($I12&"!$1:$1048576"),MATCH($B12,INDIRECT($I12&"!$A:$A"),),MATCH(Z$2,INDIRECT($I12&"!$1:$1"),)) -> 0 | AA12: =INDEX(INDIRECT($I12&"!$1:$1048576"),MATCH($B12,INDIRECT($I12&"!$A:$A"),),MATCH(AA$2,INDIRECT($I12&"!$1:$1"),)) -> Confissão de Divida referente a fiança do FMM em USD, FI158/12 - Comissões não pagas.Considerando d) CONTRATANTE e DEVEDOR SOLIDÁRIO confessam dever ao BANCO a Comissão Fiança Original no montante atualizado de R$ 9.028.759,32; | AB12: =IFERROR(INDEX(INDIRECT($I12&"!$1:$1048576"),MATCH($B12,INDIRECT($I12&"!$A:$A"),),MATCH(AB$2,INDIRECT($I12&"!$1:$1"),)),"") -> 0
B13: 690 | C13: Sim | F13: Telefone | G13: =INDEX(INDIRECT($I13&"!$1:$1048576"),MATCH($B13,INDIRECT($I13&"!$A:$A"),),MATCH(G$2,INDIRECT($I13&"!$1:$1"),)) -> OSCN | H13: X | I13: Debêntures | J13: Debenture | K13: CLASSE III | L13: =INDEX(INDIRECT($I13&"!$1:$1048576"),MATCH($B13,INDIRECT($I13&"!$A:$A"),),MATCH(L$2,INDIRECT($I13&"!$1:$1"),)) -> BANCO SANTANDER (BRASIL) S.A. | M13: =INDEX(INDIRECT($I13&"!$1:$1048576"),MATCH($B13,INDIRECT($I13&"!$A:$A"),),MATCH(M$2,INDIRECT($I13&"!$1:$1"),)) -> 90.400.888/0001-42 | N13: =INDEX(INDIRECT($I13&"!$1:$1048576"),MATCH($B13,INDIRECT($I13&"!$A:$A"),),MATCH(N$2,INDIRECT($I13&"!$1:$1"),)) -> 4004 3535 | O13: =INDEX(INDIRECT($I13&"!$1:$1048576"),MATCH($B13,INDIRECT($I13&"!$A:$A"),),MATCH(O$2,INDIRECT($I13&"!$1:$1"),)) -> arcastel@santander.com.br; andrepcosta@santander.com.br; andrepcosta@santander.com.br | P13: =INDEX(INDIRECT($I13&"!$1:$1048576"),MATCH($B13,INDIRECT($I13&"!$A:$A"),),MATCH(P$2,INDIRECT($I13&"!$1:$1"),)) -> AV PRES JUSCELINO KUBITSCHEK 2041 - SÃO PAULO/SP | Q13: =INDEX(INDIRECT($I13&"!$1:$1048576"),MATCH($B13,INDIRECT($I13&"!$A:$A"),),MATCH(Q$2,INDIRECT($I13&"!$1:$1"),)) -> Real | R13: =INDEX(INDIRECT($I13&"!$1:$1048576"),MATCH($B13,INDIRECT($I13&"!$A:$A"),),MATCH(R$2,INDIRECT($I13&"!$1:$1"),)) -> 58512584 | S13: =INDEX(INDIRECT($I13&"!$1:$1048576"),MATCH($B13,INDIRECT($I13&"!$A:$A"),),MATCH(S$2,INDIRECT($I13&"!$1:$1"),)) -> 60173193 | T13: =INDEX(INDIRECT($I13&"!$1:$1048576"),MATCH($B13,INDIRECT($I13&"!$A:$A"),),MATCH(T$2,INDIRECT($I13&"!$1:$1"),)) -> 60173193 | V13: =INDEX(INDIRECT($I13&"!$1:$1048576"),MATCH($B13,INDIRECT($I13&"!$A:$A"),),MATCH(V$2,INDIRECT($I13&"!$1:$1"),)) -> SIM | W13: =INDEX(INDIRECT($I13&"!$1:$1048576"),MATCH($B13,INDIRECT($I13&"!$A:$A"),),MATCH(W$2,INDIRECT($I13&"!$1:$1"),)) -> 3 | X13: =INDEX(INDIRECT($I13&"!$1:$1048576"),MATCH($B13,INDIRECT($I13&"!$A:$A"),),MATCH(X$2,INDIRECT($I13&"!$1:$1"),)) -> Real | Y13: =INDEX(INDIRECT($I13&"!$1:$1048576"),MATCH($B13,INDIRECT($I13&"!$A:$A"),),MATCH(Y$2,INDIRECT($I13&"!$1:$1"),)) -> 23310459 | Z13: =INDEX(INDIRECT($I13&"!$1:$1048576"),MATCH($B13,INDIRECT($I13&"!$A:$A"),),MATCH(Z$2,INDIRECT($I13&"!$1:$1"),)) -> 0 | AA13: =INDEX(INDIRECT($I13&"!$1:$1048576"),MATCH($B13,INDIRECT($I13&"!$A:$A"),),MATCH(AA$2,INDIRECT($I13&"!$1:$1"),)) -> Debêntures subscritas pelo Santander com créditos concursais | AB13: =IFERROR(INDEX(INDIRECT($I13&"!$1:$1048576"),MATCH($B13,INDIRECT($I13&"!$A:$A"),),MATCH(AB$2,INDIRECT($I13&"!$1:$1"),)),"") -> 0
B14: 691 | C14: Sim | D14: Classificado pela Meden | G14: =INDEX(INDIRECT($I14&"!$1:$1048576"),MATCH($B14,INDIRECT($I14&"!$A:$A"),),MATCH(G$2,INDIRECT($I14&"!$1:$1"),)) -> OSCN | I14: Partes_Relacionadas | J14: Partes Relacionadas | K14: PARTES RELACIONADAS | L14: =INDEX(INDIRECT($I14&"!$1:$1048576"),MATCH($B14,INDIRECT($I14&"!$A:$A"),),MATCH(L$2,INDIRECT($I14&"!$1:$1"),)) -> OSX Brasil S.A | M14: =INDEX(INDIRECT($I14&"!$1:$1048576"),MATCH($B14,INDIRECT($I14&"!$A:$A"),),MATCH(M$2,INDIRECT($I14&"!$1:$1"),)) -> 09.112.685/0001-32 | N14: =INDEX(INDIRECT($I14&"!$1:$1048576"),MATCH($B14,INDIRECT($I14&"!$A:$A"),),MATCH(N$2,INDIRECT($I14&"!$1:$1"),)) -> 21 3237-5200 | O14: =INDEX(INDIRECT($I14&"!$1:$1048576"),MATCH($B14,INDIRECT($I14&"!$A:$A"),),MATCH(O$2,INDIRECT($I14&"!$1:$1"),)) -> faturamento@osx.com.br | P14: =INDEX(INDIRECT($I14&"!$1:$1048576"),MATCH($B14,INDIRECT($I14&"!$A:$A"),),MATCH(P$2,INDIRECT($I14&"!$1:$1"),)) -> Rua Lauro Muller 116 Sala 2405 Botafogo 22290-160 Rio de Janeiro Rio de Janeiro RJ | Q14: =INDEX(INDIRECT($I14&"!$1:$1048576"),MATCH($B14,INDIRECT($I14&"!$A:$A"),),MATCH(Q$2,INDIRECT($I14&"!$1:$1"),)) -> Real | R14: =INDEX(INDIRECT($I14&"!$1:$1048576"),MATCH($B14,INDIRECT($I14&"!$A:$A"),),MATCH(R$2,INDIRECT($I14&"!$1:$1"),)) -> 67816938 | S14: =INDEX(INDIRECT($I14&"!$1:$1048576"),MATCH($B14,INDIRECT($I14&"!$A:$A"),),MATCH(S$2,INDIRECT($I14&"!$1:$1"),)) -> 65794387 | T14: =INDEX(INDIRECT($I14&"!$1:$1048576"),MATCH($B14,INDIRECT($I14&"!$A:$A"),),MATCH(T$2,INDIRECT($I14&"!$1:$1"),)) -> 59791962 | V14: =INDEX(INDIRECT($I14&"!$1:$1048576"),MATCH($B14,INDIRECT($I14&"!$A:$A"),),MATCH(V$2,INDIRECT($I14&"!$1:$1"),)) -> 2022551.1 | W14: =INDEX(INDIRECT($I14&"!$1:$1048576"),MATCH($B14,INDIRECT($I14&"!$A:$A"),),MATCH(W$2,INDIRECT($I14&"!$1:$1"),)) -> 0 | X14: =INDEX(INDIRECT($I14&"!$1:$1048576"),MATCH($B14,INDIRECT($I14&"!$A:$A"),),MATCH(X$2,INDIRECT($I14&"!$1:$1"),)) -> Real | Y14: =INDEX(INDIRECT($I14&"!$1:$1048576"),MATCH($B14,INDIRECT($I14&"!$A:$A"),),MATCH(Y$2,INDIRECT($I14&"!$1:$1"),)) -> 0 | Z14: =INDEX(INDIRECT($I14&"!$1:$1048576"),MATCH($B14,INDIRECT($I14&"!$A:$A"),),MATCH(Z$2,INDIRECT($I14&"!$1:$1"),)) -> 0 | AA14: =INDEX(INDIRECT($I14&"!$1:$1048576"),MATCH($B14,INDIRECT($I14&"!$A:$A"),),MATCH(AA$2,INDIRECT($I14&"!$1:$1"),)) -> Esse saldo está sendo reduzido em R$ 4.615.483,28 que são referentes as NDs que precisamos ter em aberto para pagar e evitar mútuos entre as companhias. | AB14: =IFERROR(INDEX(INDIRECT($I14&"!$1:$1048576"),MATCH($B14,INDIRECT($I14&"!$A:$A"),),MATCH(AB$2,INDIRECT($I14&"!$1:$1"),)),"") -> 0
B15: 39 | C15: Sim | D15: Classificado plano Antigo | G15: =INDEX(INDIRECT($I15&"!$1:$1048576"),MATCH($B15,INDIRECT($I15&"!$A:$A"),),MATCH(G$2,INDIRECT($I15&"!$1:$1"),)) -> OSCN | H15: X | I15: Fornecedores | J15: Quirografário | K15: CLASSE III | L15: =INDEX(INDIRECT($I15&"!$1:$1048576"),MATCH($B15,INDIRECT($I15&"!$A:$A"),),MATCH(L$2,INDIRECT($I15&"!$1:$1"),)) -> ALE HEAVYLIFT BRASIL MOVIMENTACOES LTDA | M15: =INDEX(INDIRECT($I15&"!$1:$1048576"),MATCH($B15,INDIRECT($I15&"!$A:$A"),),MATCH(M$2,INDIRECT($I15&"!$1:$1"),)) -> 15378349000139 | N15: =INDEX(INDIRECT($I15&"!$1:$1048576"),MATCH($B15,INDIRECT($I15&"!$A:$A"),),MATCH(N$2,INDIRECT($I15&"!$1:$1"),)) -> 21 38493600 | O15: =INDEX(INDIRECT($I15&"!$1:$1048576"),MATCH($B15,INDIRECT($I15&"!$A:$A"),),MATCH(O$2,INDIRECT($I15&"!$1:$1"),)) -> legalizacao@wsscontabilidade.com.br | P15: =INDEX(INDIRECT($I15&"!$1:$1048576"),MATCH($B15,INDIRECT($I15&"!$A:$A"),),MATCH(P$2,INDIRECT($I15&"!$1:$1"),)) -> Av Andromeda 885 Sala 1717 BCO Green Valley Alphaville 6473000 São Paulo Barueri BRASIL | Q15: =INDEX(INDIRECT($I15&"!$1:$1048576"),MATCH($B15,INDIRECT($I15&"!$A:$A"),),MATCH(Q$2,INDIRECT($I15&"!$1:$1"),)) -> Real | R15: =INDEX(INDIRECT($I15&"!$1:$1048576"),MATCH($B15,INDIRECT($I15&"!$A:$A"),),MATCH(R$2,INDIRECT($I15&"!$1:$1"),)) -> 59139542 | S15: =INDEX(INDIRECT($I15&"!$1:$1048576"),MATCH($B15,INDIRECT($I15&"!$A:$A"),),MATCH(S$2,INDIRECT($I15&"!$1:$1"),)) -> 59780371 | T15: =INDEX(INDIRECT($I15&"!$1:$1048576"),MATCH($B15,INDIRECT($I15&"!$A:$A"),),MATCH(T$2,INDIRECT($I15&"!$1:$1"),)) -> 59780371 | V15: =INDEX(INDIRECT($I15&"!$1:$1048576"),MATCH($B15,INDIRECT($I15&"!$A:$A"),),MATCH(V$2,INDIRECT($I15&"!$1:$1"),)) -> SIM | W15: =INDEX(INDIRECT($I15&"!$1:$1048576"),MATCH($B15,INDIRECT($I15&"!$A:$A"),),MATCH(W$2,INDIRECT($I15&"!$1:$1"),)) -> 3 | X15: =INDEX(INDIRECT($I15&"!$1:$1048576"),MATCH($B15,INDIRECT($I15&"!$A:$A"),),MATCH(X$2,INDIRECT($I15&"!$1:$1"),)) -> Real | Y15: =INDEX(INDIRECT($I15&"!$1:$1048576"),MATCH($B15,INDIRECT($I15&"!$A:$A"),),MATCH(Y$2,INDIRECT($I15&"!$1:$1"),)) -> 35939905 | Z15: =INDEX(INDIRECT($I15&"!$1:$1048576"),MATCH($B15,INDIRECT($I15&"!$A:$A"),),MATCH(Z$2,INDIRECT($I15&"!$1:$1"),)) -> Não | AA15: =INDEX(INDIRECT($I15&"!$1:$1048576"),MATCH($B15,INDIRECT($I15&"!$A:$A"),),MATCH(AA$2,INDIRECT($I15&"!$1:$1"),)) -> 0 | AB15: =IFERROR(INDEX(INDIRECT($I15&"!$1:$1048576"),MATCH($B15,INDIRECT($I15&"!$A:$A"),),MATCH(AB$2,INDIRECT($I15&"!$1:$1"),)),"") -> 0
B16: 40 | C16: Sim | D16: Classificado plano Antigo | F16: Telefone | G16: =INDEX(INDIRECT($I16&"!$1:$1048576"),MATCH($B16,INDIRECT($I16&"!$A:$A"),),MATCH(G$2,INDIRECT($I16&"!$1:$1"),)) -> OSCN | H16: X | I16: Fornecedores | J16: Quirografário | K16: CLASSE III | L16: =INDEX(INDIRECT($I16&"!$1:$1048576"),MATCH($B16,INDIRECT($I16&"!$A:$A"),),MATCH(L$2,INDIRECT($I16&"!$1:$1"),)) -> ALE HOLDING NETHERLANDS B.V. | M16: =INDEX(INDIRECT($I16&"!$1:$1048576"),MATCH($B16,INDIRECT($I16&"!$A:$A"),),MATCH(M$2,INDIRECT($I16&"!$1:$1"),)) -> estrangeira | N16: =INDEX(INDIRECT($I16&"!$1:$1048576"),MATCH($B16,INDIRECT($I16&"!$A:$A"),),MATCH(N$2,INDIRECT($I16&"!$1:$1"),)) -> não encontrado | O16: =INDEX(INDIRECT($I16&"!$1:$1048576"),MATCH($B16,INDIRECT($I16&"!$A:$A"),),MATCH(O$2,INDIRECT($I16&"!$1:$1"),)) -> m.birch@ale-heavylift.com | P16: =INDEX(INDIRECT($I16&"!$1:$1048576"),MATCH($B16,INDIRECT($I16&"!$A:$A"),),MATCH(P$2,INDIRECT($I16&"!$1:$1"),)) -> 4825 BD Breda, Países Baixos, Konijnenberg, 68 | Q16: =INDEX(INDIRECT($I16&"!$1:$1048576"),MATCH($B16,INDIRECT($I16&"!$A:$A"),),MATCH(Q$2,INDIRECT($I16&"!$1:$1"),)) -> Real | R16: =INDEX(INDIRECT($I16&"!$1:$1048576"),MATCH($B16,INDIRECT($I16&"!$A:$A"),),MATCH(R$2,INDIRECT($I16&"!$1:$1"),)) -> 59008947 | S16: =INDEX(INDIRECT($I16&"!$1:$1048576"),MATCH($B16,INDIRECT($I16&"!$A:$A"),),MATCH(S$2,INDIRECT($I16&"!$1:$1"),)) -> 59648360 | T16: =INDEX(INDIRECT($I16&"!$1:$1048576"),MATCH($B16,INDIRECT($I16&"!$A:$A"),),MATCH(T$2,INDIRECT($I16&"!$1:$1"),)) -> 59648360 | V16: =INDEX(INDIRECT($I16&"!$1:$1048576"),MATCH($B16,INDIRECT($I16&"!$A:$A"),),MATCH(V$2,INDIRECT($I16&"!$1:$1"),)) -> SIM | W16: =INDEX(INDIRECT($I16&"!$1:$1048576"),MATCH($B16,INDIRECT($I16&"!$A:$A"),),MATCH(W$2,INDIRECT($I16&"!$1:$1"),)) -> 3 | X16: =INDEX(INDIRECT($I16&"!$1:$1048576"),MATCH($B16,INDIRECT($I16&"!$A:$A"),),MATCH(X$2,INDIRECT($I16&"!$1:$1"),)) -> Real | Y16: =INDEX(INDIRECT($I16&"!$1:$1048576"),MATCH($B16,INDIRECT($I16&"!$A:$A"),),MATCH(Y$2,INDIRECT($I16&"!$1:$1"),)) -> 35853864 | Z16: =INDEX(INDIRECT($I16&"!$1:$1048576"),MATCH($B16,INDIRECT($I16&"!$A:$A"),),MATCH(Z$2,INDIRECT($I16&"!$1:$1"),)) -> Não | AA16: =INDEX(INDIRECT($I16&"!$1:$1048576"),MATCH($B16,INDIRECT($I16&"!$A:$A"),),MATCH(AA$2,INDIRECT($I16&"!$1:$1"),)) -> 0 | AB16: =IFERROR(INDEX(INDIRECT($I16&"!$1:$1048576"),MATCH($B16,INDIRECT($I16&"!$A:$A"),),MATCH(AB$2,INDIRECT($I16&"!$1:$1"),)),"") -> 0
B17: 699 | C17: Sim | D17: Classificado pela Meden | F17: Telefone; Email | G17: =INDEX(INDIRECT($I17&"!$1:$1048576"),MATCH($B17,INDIRECT($I17&"!$A:$A"),),MATCH(G$2,INDIRECT($I17&"!$1:$1"),)) -> OSBR | I17: Partes_Relacionadas | J17: Partes Relacionadas | K17: PARTES RELACIONADAS | L17: =INDEX(INDIRECT($I17&"!$1:$1048576"),MATCH($B17,INDIRECT($I17&"!$A:$A"),),MATCH(L$2,INDIRECT($I17&"!$1:$1"),)) -> OSX Leasing Group B.V. | M17: =INDEX(INDIRECT($I17&"!$1:$1048576"),MATCH($B17,INDIRECT($I17&"!$A:$A"),),MATCH(M$2,INDIRECT($I17&"!$1:$1"),)) -> Estrangeira | N17: =INDEX(INDIRECT($I17&"!$1:$1048576"),MATCH($B17,INDIRECT($I17&"!$A:$A"),),MATCH(N$2,INDIRECT($I17&"!$1:$1"),)) -> não encontrado | O17: =INDEX(INDIRECT($I17&"!$1:$1048576"),MATCH($B17,INDIRECT($I17&"!$A:$A"),),MATCH(O$2,INDIRECT($I17&"!$1:$1"),)) -> não encontrado | P17: =INDEX(INDIRECT($I17&"!$1:$1048576"),MATCH($B17,INDIRECT($I17&"!$A:$A"),),MATCH(P$2,INDIRECT($I17&"!$1:$1"),)) -> Prins Bernhardplein 200, 1097JB Amsterdam | Q17: =INDEX(INDIRECT($I17&"!$1:$1048576"),MATCH($B17,INDIRECT($I17&"!$A:$A"),),MATCH(Q$2,INDIRECT($I17&"!$1:$1"),)) -> Real | R17: =INDEX(INDIRECT($I17&"!$1:$1048576"),MATCH($B17,INDIRECT($I17&"!$A:$A"),),MATCH(R$2,INDIRECT($I17&"!$1:$1"),)) -> 58818451 | S17: =INDEX(INDIRECT($I17&"!$1:$1048576"),MATCH($B17,INDIRECT($I17&"!$A:$A"),),MATCH(S$2,INDIRECT($I17&"!$1:$1"),)) -> 58818451 | T17: =INDEX(INDIRECT($I17&"!$1:$1048576"),MATCH($B17,INDIRECT($I17&"!$A:$A"),),MATCH(T$2,INDIRECT($I17&"!$1:$1"),)) -> 58818451 | V17: =INDEX(INDIRECT($I17&"!$1:$1048576"),MATCH($B17,INDIRECT($I17&"!$A:$A"),),MATCH(V$2,INDIRECT($I17&"!$1:$1"),)) -> 0 | W17: =INDEX(INDIRECT($I17&"!$1:$1048576"),MATCH($B17,INDIRECT($I17&"!$A:$A"),),MATCH(W$2,INDIRECT($I17&"!$1:$1"),)) -> 0 | X17: =INDEX(INDIRECT($I17&"!$1:$1048576"),MATCH($B17,INDIRECT($I17&"!$A:$A"),),MATCH(X$2,INDIRECT($I17&"!$1:$1"),)) -> Real | Y17: =INDEX(INDIRECT($I17&"!$1:$1048576"),MATCH($B17,INDIRECT($I17&"!$A:$A"),),MATCH(Y$2,INDIRECT($I17&"!$1:$1"),)) -> 0 | Z17: =INDEX(INDIRECT($I17&"!$1:$1048576"),MATCH($B17,INDIRECT($I17&"!$A:$A"),),MATCH(Z$2,INDIRECT($I17&"!$1:$1"),)) -> 0 | AA17: =INDEX(INDIRECT($I17&"!$1:$1048576"),MATCH($B17,INDIRECT($I17&"!$A:$A"),),MATCH(AA$2,INDIRECT($I17&"!$1:$1"),)) -> 0 | AB17: =IFERROR(INDEX(INDIRECT($I17&"!$1:$1048576"),MATCH($B17,INDIRECT($I17&"!$A:$A"),),MATCH(AB$2,INDIRECT($I17&"!$1:$1"),)),"") -> 0 | AC17: x
B18: 340 | C18: Sim | D18: Classificado plano Antigo | F18: Telefone; Endereço | G18: =INDEX(INDIRECT($I18&"!$1:$1048576"),MATCH($B18,INDIRECT($I18&"!$A:$A"),),MATCH(G$2,INDIRECT($I18&"!$1:$1"),)) -> OSCN | H18: X | I18: Fornecedores | J18: Quirografário | K18: CLASSE III | L18: =INDEX(INDIRECT($I18&"!$1:$1048576"),MATCH($B18,INDIRECT($I18&"!$A:$A"),),MATCH(L$2,INDIRECT($I18&"!$1:$1"),)) -> KONECRANES | M18: =INDEX(INDIRECT($I18&"!$1:$1048576"),MATCH($B18,INDIRECT($I18&"!$A:$A"),),MATCH(M$2,INDIRECT($I18&"!$1:$1"),)) -> estrangeira | N18: =INDEX(INDIRECT($I18&"!$1:$1048576"),MATCH($B18,INDIRECT($I18&"!$A:$A"),),MATCH(N$2,INDIRECT($I18&"!$1:$1"),)) -> não encontrado | O18: =INDEX(INDIRECT($I18&"!$1:$1048576"),MATCH($B18,INDIRECT($I18&"!$A:$A"),),MATCH(O$2,INDIRECT($I18&"!$1:$1"),)) -> wagner.barbosa@konecranes.com | P18: =INDEX(INDIRECT($I18&"!$1:$1048576"),MATCH($B18,INDIRECT($I18&"!$A:$A"),),MATCH(P$2,INDIRECT($I18&"!$1:$1"),)) -> não encontrado | Q18: =INDEX(INDIRECT($I18&"!$1:$1048576"),MATCH($B18,INDIRECT($I18&"!$A:$A"),),MATCH(Q$2,INDIRECT($I18&"!$1:$1"),)) -> Real | R18: =INDEX(INDIRECT($I18&"!$1:$1048576"),MATCH($B18,INDIRECT($I18&"!$A:$A"),),MATCH(R$2,INDIRECT($I18&"!$1:$1"),)) -> 54919922 | S18: =INDEX(INDIRECT($I18&"!$1:$1048576"),MATCH($B18,INDIRECT($I18&"!$A:$A"),),MATCH(S$2,INDIRECT($I18&"!$1:$1"),)) -> 56055513 | T18: =INDEX(INDIRECT($I18&"!$1:$1048576"),MATCH($B18,INDIRECT($I18&"!$A:$A"),),MATCH(T$2,INDIRECT($I18&"!$1:$1"),)) -> 56055513 | V18: =INDEX(INDIRECT($I18&"!$1:$1048576"),MATCH($B18,INDIRECT($I18&"!$A:$A"),),MATCH(V$2,INDIRECT($I18&"!$1:$1"),)) -> SIM | W18: =INDEX(INDIRECT($I18&"!$1:$1048576"),MATCH($B18,INDIRECT($I18&"!$A:$A"),),MATCH(W$2,INDIRECT($I18&"!$1:$1"),)) -> 3 | X18: =INDEX(INDIRECT($I18&"!$1:$1048576"),MATCH($B18,INDIRECT($I18&"!$A:$A"),),MATCH(X$2,INDIRECT($I18&"!$1:$1"),)) -> Real | Y18: =INDEX(INDIRECT($I18&"!$1:$1048576"),MATCH($B18,INDIRECT($I18&"!$A:$A"),),MATCH(Y$2,INDIRECT($I18&"!$1:$1"),)) -> 6297280 | Z18: =INDEX(INDIRECT($I18&"!$1:$1048576"),MATCH($B18,INDIRECT($I18&"!$A:$A"),),MATCH(Z$2,INDIRECT($I18&"!$1:$1"),)) -> Não | AA18: =INDEX(INDIRECT($I18&"!$1:$1048576"),MATCH($B18,INDIRECT($I18&"!$A:$A"),),MATCH(AA$2,INDIRECT($I18&"!$1:$1"),)) -> ATENÇÃO - ESTÁ NA CONTABILIDADE DA OSCN MAS CONSTA NO QGC DA OSBR | AB18: =IFERROR(INDEX(INDIRECT($I18&"!$1:$1048576"),MATCH($B18,INDIRECT($I18&"!$A:$A"),),MATCH(AB$2,INDIRECT($I18&"!$1:$1"),)),"") -> 0
